BEGIN:VCALENDAR
VERSION:2.0
PRODID:sogde.org
BEGIN:VEVENT
UID:69e91282e1a0c
DTSTART:20220226T090000Z
SEQUENCE:0
TRANSP:OPAQUE
DTEND:20220226T120000Z
URL:https://www.sogde.org/de/events/offentliche-jahreshauptversammlung-2022
 /
LOCATION:Online via Zoom
SUMMARY:Öffentliche Jahreshauptversammlung der Südosteuropa-Gesellschaft
CLASS:PUBLIC
DTSTAMP:20260422T182506Z
END:VEVENT
END:VCALENDAR