BEGIN:VCALENDAR
VERSION:2.0
PRODID:sogde.org
BEGIN:VEVENT
UID:69e91282e403d
DTSTART:20220225T140000Z
SEQUENCE:0
TRANSP:OPAQUE
DTEND:20220225T160000Z
URL:https://www.sogde.org/de/events/symposion-des-wissenschaftlichen-beirat
 s-2022/
LOCATION:Online via Zoom
SUMMARY:30 Years After the Beginning of the War in Bosnia and Herzegovina: 
  What Does It Mean to Rely on the Young Generation?
CLASS:PUBLIC
DTSTAMP:20260422T182506Z
END:VEVENT
END:VCALENDAR