BEGIN:VCALENDAR
VERSION:2.0
PRODID:sogde.org
BEGIN:VEVENT
UID:69e912d0bd5cc
DTSTART:20220429T073000Z
SEQUENCE:0
TRANSP:OPAQUE
DTEND:20220430T113000Z
URL:https://www.sogde.org/de/events/unsettling-the-hegemonic-gaze-translati
 on-and-transfer-of-knowledge-on-southeast-europe/
LOCATION:Leibniz Institut für Ost- und Südosteuropa Forschung\, Regensbur
 g
SUMMARY:Unsettling the Hegemonic Gaze: Translation and Transfer of Knowledg
 e on Southeast Europe
CLASS:PUBLIC
DTSTAMP:20260422T182624Z
END:VEVENT
END:VCALENDAR