BEGIN:VCALENDAR
VERSION:2.0
PRODID:sogde.org
BEGIN:VEVENT
UID:69e84fcb77cf7
DTSTART:20260505T163000Z
SEQUENCE:0
TRANSP:OPAQUE
DTEND:20260505T180000Z
URL:https://www.sogde.org/de/events/2026-film-und-gesprach-lepota-poroka-zw
 s-berlin/
LOCATION:Humboldt-Universität zu Berlin\, Unter den Linden 6\, Hauptgebäu
 de\, 1. OG\, Hörsaal 2097
SUMMARY:Lepota poroka / The Beauty of Vice
CLASS:PUBLIC
DTSTAMP:20260422T043419Z
END:VEVENT
END:VCALENDAR