BEGIN:VCALENDAR
VERSION:2.0
PRODID:sogde.org
BEGIN:VEVENT
UID:69e7cb8e7e55a
DTSTART:20260610T160000Z
SEQUENCE:0
TRANSP:OPAQUE
DTEND:20260610T180000Z
URL:https://www.sogde.org/de/events/2026-kinder-des-balkans-munchen/
LOCATION:Internationales Begegnungszentrum der Wissenschaft\, Amalienstraß
 e 38\, 80799 München
SUMMARY:Die Kinder des Balkans – Zwischen Identitätsfindung\, Nationalbe
 wusstsein und Religiosität: Bosnien und Herzegowina
CLASS:PUBLIC
DTSTAMP:20260421T191006Z
END:VEVENT
END:VCALENDAR