BEGIN:VCALENDAR
VERSION:2.0
PRODID:sogde.org
BEGIN:VEVENT
UID:69e63ae8e1b09
DTSTART:20260522T133000Z
SEQUENCE:0
TRANSP:OPAQUE
DTEND:20260522T150000Z
URL:https://www.sogde.org/de/events/2026-online-discussion-montenegro-indep
 endence/
LOCATION:online via Zoom
SUMMARY:20 Years Since the Referendum on Independence in Montenegro
CLASS:PUBLIC
DTSTAMP:20260420T144040Z
END:VEVENT
END:VCALENDAR