BEGIN:VCALENDAR
VERSION:2.0
PRODID:sogde.org
BEGIN:VEVENT
UID:69e7ca381fb7a
DTSTART:20260429T153000Z
SEQUENCE:0
TRANSP:OPAQUE
DTEND:20260429T170000Z
URL:https://www.sogde.org/en/events/2026-russias-war-on-ukraine-and-the-cri
 sis-of-world-order-zws-leipzig/
LOCATION:Strohsackpassage\, Nikolaistr. 6-10\, 04109 Leipzig\, Raum 5.55
SUMMARY:Russia&#039\;s War on Ukraine and the Crisis of World Order
CLASS:PUBLIC
DTSTAMP:20260421T190424Z
END:VEVENT
END:VCALENDAR